BEGIN:VCALENDAR
VERSION:2.0
PRODID:-//Amnesty Ottawa-Gatineau - ECPv6.15.20//NONSGML v1.0//EN
CALSCALE:GREGORIAN
METHOD:PUBLISH
X-ORIGINAL-URL:https://amnestyottawagatineau.ca
X-WR-CALDESC:Events for Amnesty Ottawa-Gatineau
REFRESH-INTERVAL;VALUE=DURATION:PT1H
X-Robots-Tag:noindex
X-PUBLISHED-TTL:PT1H
BEGIN:VTIMEZONE
TZID:America/New_York
BEGIN:DAYLIGHT
TZOFFSETFROM:-0500
TZOFFSETTO:-0400
TZNAME:EDT
DTSTART:20210314T070000
END:DAYLIGHT
BEGIN:STANDARD
TZOFFSETFROM:-0400
TZOFFSETTO:-0500
TZNAME:EST
DTSTART:20211107T060000
END:STANDARD
BEGIN:DAYLIGHT
TZOFFSETFROM:-0500
TZOFFSETTO:-0400
TZNAME:EDT
DTSTART:20220313T070000
END:DAYLIGHT
BEGIN:STANDARD
TZOFFSETFROM:-0400
TZOFFSETTO:-0500
TZNAME:EST
DTSTART:20221106T060000
END:STANDARD
BEGIN:DAYLIGHT
TZOFFSETFROM:-0500
TZOFFSETTO:-0400
TZNAME:EDT
DTSTART:20230312T070000
END:DAYLIGHT
BEGIN:STANDARD
TZOFFSETFROM:-0400
TZOFFSETTO:-0500
TZNAME:EST
DTSTART:20231105T060000
END:STANDARD
BEGIN:DAYLIGHT
TZOFFSETFROM:-0500
TZOFFSETTO:-0400
TZNAME:EDT
DTSTART:20240310T070000
END:DAYLIGHT
BEGIN:STANDARD
TZOFFSETFROM:-0400
TZOFFSETTO:-0500
TZNAME:EST
DTSTART:20241103T060000
END:STANDARD
END:VTIMEZONE
BEGIN:VEVENT
DTSTART;TZID=America/New_York:20230712T190000
DTEND;TZID=America/New_York:20230712T210000
DTSTAMP:20260424T180522
CREATED:20230517T002037Z
LAST-MODIFIED:20230524T222554Z
UID:694-1689188400-1689195600@amnestyottawagatineau.ca
SUMMARY:Monthly Community Activist Gathering
DESCRIPTION:Members from all local AI groups (AI 56\, AI Francophone\, AI UOttawa\, fieldworkers\, AI HQ staff) and members of the general public are invited to attend a monthly community gathering to plan and organize activism campaigns in the Ottawa-Gatineau region.
URL:https://amnestyottawagatineau.ca/event/monthly-community-activist-gathering-8/
LOCATION:Amnesty’s Ottawa office\, 312 Laurier Ave E\, Ottawa\, ON\, K1N 1H9\, Canada
CATEGORIES:In-Person Events,Online Events
ATTACH;FMTTYPE=image/jpeg:https://amnestyottawagatineau.ca/wp-content/uploads/2023/02/Amnesty-International-Ottawa-Photo-Gallery-7.jpg
END:VEVENT
BEGIN:VEVENT
DTSTART;TZID=America/New_York:20230616T130000
DTEND;TZID=America/New_York:20230618T170000
DTSTAMP:20260424T180522
CREATED:20230513T175534Z
LAST-MODIFIED:20230524T222007Z
UID:676-1686920400-1687107600@amnestyottawagatineau.ca
SUMMARY:2023 Annual General Meeting & Human Rights College
DESCRIPTION:Ottawa is hosting the 2023 Annual General Meeting (AGM) from June 16-18th. The Annual General Meeting (AGM) is an opportunity for members and activists to come together in person to and inspire one another\, to learn about each other’s activism efforts and campaigns\, to share stories and experiences\, and to listen\, learn and participate in workshops\, our sessions and panel discussions. \nThe AGM is also Amnesty Canada’s highest decision-making body\, and a place where important governance work happens\, including electing our National Board and voting on resolutions that guide us in how we do our work. Throughout the weekend\, you will meet and interact with individuals and groups from coast to coast to coast who share your commitment to human rights while making important decisions to guide our work. We hope that when you leave the AGM\, you leave with new skills\, new connections\, inspiring stories\, and a refreshed sense of hope and determination. \nhttps://my.amnesty.ca/agm
URL:https://amnestyottawagatineau.ca/event/2023-annual-general-meeting-human-rights-college/
LOCATION:Carleton University\, 1125 Colonel By Drive\, Ottawa\, Ontario\, K1S 5B6\, Canada
CATEGORIES:In-Person Events,Online Events
ATTACH;FMTTYPE=image/jpeg:https://amnestyottawagatineau.ca/wp-content/uploads/2023/02/AI-AGM.jpg
END:VEVENT
BEGIN:VEVENT
DTSTART;TZID=America/New_York:20230614T190000
DTEND;TZID=America/New_York:20230614T210000
DTSTAMP:20260424T180522
CREATED:20230517T001955Z
LAST-MODIFIED:20230524T220855Z
UID:692-1686769200-1686776400@amnestyottawagatineau.ca
SUMMARY:Monthly Community Activist Gathering
DESCRIPTION:Members from all local AI groups (AI 56\, AI Francophone\, AI UOttawa\, fieldworkers\, AI HQ staff) and members of the general public are invited to attend a monthly community gathering to plan and organize activism campaigns in the Ottawa-Gatineau region. \nIf you would like to join virtually\, please email amnestyottawagatineau@gmail.com
URL:https://amnestyottawagatineau.ca/event/monthly-community-activist-gathering-7/
LOCATION:Amnesty’s Ottawa office\, 312 Laurier Ave E\, Ottawa\, ON\, K1N 1H9\, Canada
CATEGORIES:In-Person Events,Online Events
ATTACH;FMTTYPE=image/jpeg:https://amnestyottawagatineau.ca/wp-content/uploads/2022/01/12371184_10153742182500833_7116441211244684930_o.jpg
END:VEVENT
BEGIN:VEVENT
DTSTART;TZID=America/New_York:20230610T120000
DTEND;TZID=America/New_York:20230610T140000
DTSTAMP:20260424T180522
CREATED:20230517T000851Z
LAST-MODIFIED:20230524T220720Z
UID:683-1686398400-1686405600@amnestyottawagatineau.ca
SUMMARY:Board Candidates Question and Answer Session
DESCRIPTION:To ensure that all members feel confident in voting for their preferred candidates\, we are excited to formally invite you to our Board Candidates session where all members will have an opportunity to ask candidates questions before the Board election. This is your opportunity to ensure candidates understand your priorities and share your values! \n  \nhttps://us06web.zoom.us/webinar/register/WN_E8AdC5VNQIKXeTaB9ypEmA#/registration
URL:https://amnestyottawagatineau.ca/event/board-candidates-qa-session/
LOCATION:Ontario
CATEGORIES:In-Person Events,Online Events
ATTACH;FMTTYPE=image/jpeg:https://amnestyottawagatineau.ca/wp-content/uploads/2022/02/IMG_5973.jpg
END:VEVENT
BEGIN:VEVENT
DTSTART;TZID=America/New_York:20230527T080000
DTEND;TZID=America/New_York:20230527T140000
DTSTAMP:20260424T180522
CREATED:20230517T001226Z
LAST-MODIFIED:20230524T222505Z
UID:685-1685174400-1685196000@amnestyottawagatineau.ca
SUMMARY:Amnesty Booth at The Great Glebe Garage Sale
DESCRIPTION:Come say hello\, sign a petition or two\, and discuss human rights with our volunteers! \nhttps://glebeca.ca/garage-sale-committee/
URL:https://amnestyottawagatineau.ca/event/amnesty-booth-at-the-great-glebe-garage-sale/
LOCATION:Great Glebe Garage Sale\, 280 Fifth Ave\, Ottawa\, Ontario\, K1S 2N5\, Canada
CATEGORIES:In-Person Events
ATTACH;FMTTYPE=image/jpeg:https://amnestyottawagatineau.ca/wp-content/uploads/2023/05/Amnesty-Outdoor-Booth-e1699923405368.jpg
END:VEVENT
BEGIN:VEVENT
DTSTART;TZID=America/New_York:20221206T100000
DTEND;TZID=America/New_York:20221206T180000
DTSTAMP:20260424T180522
CREATED:20221201T235353Z
LAST-MODIFIED:20221201T235353Z
UID:530-1670320800-1670349600@amnestyottawagatineau.ca
SUMMARY:Write for Rights
DESCRIPTION:Join Amnesty International’s Write for Rights letter writing campaign and your words can change a life. Write or sign a letter to state officials with us to demand the release of 10 prisoners of conscience around the world at Arlington Five Coffeehouse on December 10th.
URL:https://amnestyottawagatineau.ca/event/write-for-rights-3/
LOCATION:UCU Promenade\, University of Ottawa
CATEGORIES:In-Person Events
END:VEVENT
BEGIN:VEVENT
DTSTART;TZID=America/New_York:20220924T140000
DTEND;TZID=America/New_York:20220924T180000
DTSTAMP:20260424T180522
CREATED:20220829T135744Z
LAST-MODIFIED:20220829T135744Z
UID:446-1664028000-1664042400@amnestyottawagatineau.ca
SUMMARY:Berta Multiplied
DESCRIPTION:Join a hands-on community action event to make visible our support for defenders of Indigenous lands\, water\, forests\, air and a healthy environment. In times of climate crisis\, these defenders are a beacon of hope. Yet they are under increasing vicious attack because their efforts challenge the profits of powerful companies and their backers. \nCome hear the inspiring words of defenders from across our hemisphere and help us unveil a new tree that honours a call made to us by our partners at the Civic Council of Popular and Indigenous Organizations in Honduras (COPINH)\, the organization founded by murdered Lenca Indigenous rights and river defender Berta Cáceres. \nTogether with community artist Claudia Salguero\, we will paint stones to create a vibrant\, eye-catching Living River of Solidarity that flows out from the tree to engage passersby. \nThere will also be music\, refreshments and lots of opportunities to make your voice count by signing petitions in support of threatened defenders in Canada\, Colombia\, Brazil\, Mexico\, Ecuador and Guatemala. \nWhen: Saturday September 24 between 2 and 6 pm – drop by any time and join the action! \nWhere: Outside Amnesty’s Ottawa office\, 312 Laurier Ave E\, Ottawa\, ON K1N 1H9 \nThis event is free! This event is child friendly! This event needs many hands! So bring your friends and together we’ll create a collective public art installation for Indigenous rights and a healthy environment.
URL:https://amnestyottawagatineau.ca/event/berta-multiplied/
LOCATION:Amnesty’s Ottawa office\, 312 Laurier Ave E\, Ottawa\, ON\, K1N 1H9\, Canada
CATEGORIES:In-Person Events
END:VEVENT
END:VCALENDAR