BEGIN:VCALENDAR
VERSION:2.0
PRODID:-//Amnesty Ottawa-Gatineau - ECPv6.15.20//NONSGML v1.0//EN
CALSCALE:GREGORIAN
METHOD:PUBLISH
X-ORIGINAL-URL:https://amnestyottawagatineau.ca
X-WR-CALDESC:Events for Amnesty Ottawa-Gatineau
REFRESH-INTERVAL;VALUE=DURATION:PT1H
X-Robots-Tag:noindex
X-PUBLISHED-TTL:PT1H
BEGIN:VTIMEZONE
TZID:America/Toronto
BEGIN:DAYLIGHT
TZOFFSETFROM:-0500
TZOFFSETTO:-0400
TZNAME:EDT
DTSTART:20220313T070000
END:DAYLIGHT
BEGIN:STANDARD
TZOFFSETFROM:-0400
TZOFFSETTO:-0500
TZNAME:EST
DTSTART:20221106T060000
END:STANDARD
BEGIN:DAYLIGHT
TZOFFSETFROM:-0500
TZOFFSETTO:-0400
TZNAME:EDT
DTSTART:20230312T070000
END:DAYLIGHT
BEGIN:STANDARD
TZOFFSETFROM:-0400
TZOFFSETTO:-0500
TZNAME:EST
DTSTART:20231105T060000
END:STANDARD
BEGIN:DAYLIGHT
TZOFFSETFROM:-0500
TZOFFSETTO:-0400
TZNAME:EDT
DTSTART:20240310T070000
END:DAYLIGHT
BEGIN:STANDARD
TZOFFSETFROM:-0400
TZOFFSETTO:-0500
TZNAME:EST
DTSTART:20241103T060000
END:STANDARD
BEGIN:DAYLIGHT
TZOFFSETFROM:-0500
TZOFFSETTO:-0400
TZNAME:EDT
DTSTART:20250309T070000
END:DAYLIGHT
BEGIN:STANDARD
TZOFFSETFROM:-0400
TZOFFSETTO:-0500
TZNAME:EST
DTSTART:20251102T060000
END:STANDARD
BEGIN:DAYLIGHT
TZOFFSETFROM:-0500
TZOFFSETTO:-0400
TZNAME:EDT
DTSTART:20260308T070000
END:DAYLIGHT
BEGIN:STANDARD
TZOFFSETFROM:-0400
TZOFFSETTO:-0500
TZNAME:EST
DTSTART:20261101T060000
END:STANDARD
END:VTIMEZONE
BEGIN:VTIMEZONE
TZID:America/New_York
BEGIN:DAYLIGHT
TZOFFSETFROM:-0500
TZOFFSETTO:-0400
TZNAME:EDT
DTSTART:20210314T070000
END:DAYLIGHT
BEGIN:STANDARD
TZOFFSETFROM:-0400
TZOFFSETTO:-0500
TZNAME:EST
DTSTART:20211107T060000
END:STANDARD
BEGIN:DAYLIGHT
TZOFFSETFROM:-0500
TZOFFSETTO:-0400
TZNAME:EDT
DTSTART:20220313T070000
END:DAYLIGHT
BEGIN:STANDARD
TZOFFSETFROM:-0400
TZOFFSETTO:-0500
TZNAME:EST
DTSTART:20221106T060000
END:STANDARD
BEGIN:DAYLIGHT
TZOFFSETFROM:-0500
TZOFFSETTO:-0400
TZNAME:EDT
DTSTART:20230312T070000
END:DAYLIGHT
BEGIN:STANDARD
TZOFFSETFROM:-0400
TZOFFSETTO:-0500
TZNAME:EST
DTSTART:20231105T060000
END:STANDARD
BEGIN:DAYLIGHT
TZOFFSETFROM:-0500
TZOFFSETTO:-0400
TZNAME:EDT
DTSTART:20240310T070000
END:DAYLIGHT
BEGIN:STANDARD
TZOFFSETFROM:-0400
TZOFFSETTO:-0500
TZNAME:EST
DTSTART:20241103T060000
END:STANDARD
END:VTIMEZONE
BEGIN:VEVENT
DTSTART;TZID=America/Toronto:20250312T190000
DTEND;TZID=America/Toronto:20250312T210000
DTSTAMP:20260424T151158
CREATED:20250310T211933Z
LAST-MODIFIED:20250310T212108Z
UID:1069-1741806000-1741813200@amnestyottawagatineau.ca
SUMMARY:Monthly Community Activist Gathering
DESCRIPTION:Members from all local AI groups (AI 56\, AI Francophone\, AI UOttawa\, fieldworkers\, AI HQ staff) and members of the general public are invited to attend a monthly community gathering to plan and organize activism campaigns in the Ottawa-Gatineau region.
URL:https://amnestyottawagatineau.ca/event/monthly-community-activist-gathering-17/
LOCATION:312 Laurier Ave E\, 312 Laurier Ave E\, Ottawa\, Ontario\, 1N 6P6\, Canada
CATEGORIES:In-Person Events,Online Events
ATTACH;FMTTYPE=image/jpeg:https://amnestyottawagatineau.ca/wp-content/uploads/2023/02/Amnesty-International-Ottawa-Photo-Gallery-7.jpg
END:VEVENT
BEGIN:VEVENT
DTSTART;TZID=America/Toronto:20240313T190000
DTEND;TZID=America/Toronto:20240313T210000
DTSTAMP:20260424T151158
CREATED:20230817T133959Z
LAST-MODIFIED:20230817T133959Z
UID:764-1710356400-1710363600@amnestyottawagatineau.ca
SUMMARY:Monthly Community Activist Gathering
DESCRIPTION:Members from all local AI groups (AI 56\, AI Francophone\, AI UOttawa\, fieldworkers\, AI HQ staff) and members of the general public are invited to attend a monthly community gathering to plan and organize activism campaigns in the Ottawa-Gatineau region. \n  \nEventbrite link
URL:https://amnestyottawagatineau.ca/event/monthly-community-activist-gathering-16/
LOCATION:312 Laurier Ave E\, 312 Laurier Ave E\, Ottawa\, Ontario\, 1N 6P6\, Canada
CATEGORIES:In-Person Events,Online Events
ATTACH;FMTTYPE=image/jpeg:https://amnestyottawagatineau.ca/wp-content/uploads/2023/02/Amnesty-International-Ottawa-Group.jpg
END:VEVENT
BEGIN:VEVENT
DTSTART;TZID=America/Toronto:20240214T190000
DTEND;TZID=America/Toronto:20240214T210000
DTSTAMP:20260424T151158
CREATED:20230817T133840Z
LAST-MODIFIED:20230817T133840Z
UID:762-1707937200-1707944400@amnestyottawagatineau.ca
SUMMARY:Monthly Community Activist Gathering
DESCRIPTION:Members from all local AI groups (AI 56\, AI Francophone\, AI UOttawa\, fieldworkers\, AI HQ staff) and members of the general public are invited to attend a monthly community gathering to plan and organize activism campaigns in the Ottawa-Gatineau region. \n  \nEventbrite link
URL:https://amnestyottawagatineau.ca/event/monthly-community-activist-gathering-15/
LOCATION:312 Laurier Ave E\, 312 Laurier Ave E\, Ottawa\, Ontario\, 1N 6P6\, Canada
CATEGORIES:In-Person Events,Online Events
ATTACH;FMTTYPE=image/jpeg:https://amnestyottawagatineau.ca/wp-content/uploads/2023/02/Amnesty-International-Ottawa-Group.jpg
END:VEVENT
BEGIN:VEVENT
DTSTART;TZID=America/Toronto:20240110T190000
DTEND;TZID=America/Toronto:20240110T210000
DTSTAMP:20260424T151158
CREATED:20230817T133721Z
LAST-MODIFIED:20230817T133721Z
UID:760-1704913200-1704920400@amnestyottawagatineau.ca
SUMMARY:Monthly Community Activist Gathering
DESCRIPTION:Members from all local AI groups (AI 56\, AI Francophone\, AI UOttawa\, fieldworkers\, AI HQ staff) and members of the general public are invited to attend a monthly community gathering to plan and organize activism campaigns in the Ottawa-Gatineau region. \n  \nEventbrite link
URL:https://amnestyottawagatineau.ca/event/monthly-community-activist-gathering-14/
LOCATION:312 Laurier Ave E\, 312 Laurier Ave E\, Ottawa\, Ontario\, 1N 6P6\, Canada
CATEGORIES:In-Person Events,Online Events
ATTACH;FMTTYPE=image/jpeg:https://amnestyottawagatineau.ca/wp-content/uploads/2023/02/Amnesty-International-Ottawa-Group.jpg
END:VEVENT
BEGIN:VEVENT
DTSTART;TZID=America/Toronto:20231213T190000
DTEND;TZID=America/Toronto:20231213T210000
DTSTAMP:20260424T151158
CREATED:20230817T133506Z
LAST-MODIFIED:20230817T133524Z
UID:758-1702494000-1702501200@amnestyottawagatineau.ca
SUMMARY:Monthly Community Activist Gathering
DESCRIPTION:Members from all local AI groups (AI 56\, AI Francophone\, AI UOttawa\, fieldworkers\, AI HQ staff) and members of the general public are invited to attend a monthly community gathering to plan and organize activism campaigns in the Ottawa-Gatineau region. \n  \nEventbrite link
URL:https://amnestyottawagatineau.ca/event/monthly-community-activist-gathering-13/
LOCATION:312 Laurier Ave E\, 312 Laurier Ave E\, Ottawa\, Ontario\, 1N 6P6\, Canada
CATEGORIES:In-Person Events,Online Events
ATTACH;FMTTYPE=image/jpeg:https://amnestyottawagatineau.ca/wp-content/uploads/2023/02/Amnesty-International-Ottawa-Group.jpg
END:VEVENT
BEGIN:VEVENT
DTSTART;TZID=America/Toronto:20231108T190000
DTEND;TZID=America/Toronto:20231108T210000
DTSTAMP:20260424T151158
CREATED:20230817T133347Z
LAST-MODIFIED:20230817T133347Z
UID:756-1699470000-1699477200@amnestyottawagatineau.ca
SUMMARY:Monthly Community Activist Gathering
DESCRIPTION:Members from all local AI groups (AI 56\, AI Francophone\, AI UOttawa\, fieldworkers\, AI HQ staff) and members of the general public are invited to attend a monthly community gathering to plan and organize activism campaigns in the Ottawa-Gatineau region. \n  \nEventbrite link
URL:https://amnestyottawagatineau.ca/event/monthly-community-activist-gathering-12/
LOCATION:312 Laurier Ave E\, 312 Laurier Ave E\, Ottawa\, Ontario\, 1N 6P6\, Canada
CATEGORIES:In-Person Events,Online Events
ATTACH;FMTTYPE=image/jpeg:https://amnestyottawagatineau.ca/wp-content/uploads/2023/02/Amnesty-International-Ottawa-Group.jpg
END:VEVENT
BEGIN:VEVENT
DTSTART;TZID=America/Toronto:20231030T190000
DTEND;TZID=America/Toronto:20231030T210000
DTSTAMP:20260424T151158
CREATED:20231017T151553Z
LAST-MODIFIED:20231017T151553Z
UID:800-1698692400-1698699600@amnestyottawagatineau.ca
SUMMARY:Weaving Hope\, Building Peace\, Seeking Justice in Colombia
DESCRIPTION:A conversation with human rights defender Berenice Celeita\n\n\nWhen: Monday\, October 30 at 7 pm\nWhere: Amnesty International Canada’s national office\, 312 Laurier Ave E\, Ottawa\n\nUnable to attend in person? Register to join online >> https://us06web.zoom.us/…/reg…/WN_93ERY5vTQuGut4X_0Qf0SQ\n\n\n\nThis event is free and wheelchair accessible.\n\nBackground: Colombia is at a crossroads as the reform government of President Petro and Vice President Marquez seeks to act on the recommendations of the 2022 Truth Commission and the 2016 Peace Accords.\n\nColombia remains the most dangerous country in the world to defend land and the environment. Berenice Celeita and her association NOMADESC have a long history of courageous work with Afro-Colombian\, Indigenous\, trade union and women’s collectives. Recognized with the Robert F Kennedy Human Rights Award in 1998\, Berenice coordinates the Peoples’ Intercultural University and the Round Table for Human Rights\, Guarantees and Protection in Buenaventura. Canada has a close relationship with Colombia as a major donor to peacebuilding and a partner in the Canada-Colombia Free Trade Agreement.
URL:https://amnestyottawagatineau.ca/event/weaving-hope-building-peace-seeking-justice-in-colombia/
LOCATION:Amnesty’s Ottawa office\, 312 Laurier Ave E\, Ottawa\, ON\, K1N 1H9\, Canada
CATEGORIES:In-Person Events,Online Events
END:VEVENT
BEGIN:VEVENT
DTSTART;TZID=America/Toronto:20231011T190000
DTEND;TZID=America/Toronto:20231011T210000
DTSTAMP:20260424T151158
CREATED:20230817T123152Z
LAST-MODIFIED:20230817T123152Z
UID:754-1697050800-1697058000@amnestyottawagatineau.ca
SUMMARY:Monthly Community Activist Gathering
DESCRIPTION:Members from all local AI groups (AI 56\, AI Francophone\, AI UOttawa\, fieldworkers\, AI HQ staff) and members of the general public are invited to attend a monthly community gathering to plan and organize activism campaigns in the Ottawa-Gatineau region. \n  \nEventbrite link
URL:https://amnestyottawagatineau.ca/event/monthly-community-activist-gathering-11/
LOCATION:312 Laurier Ave E\, 312 Laurier Ave E\, Ottawa\, Ontario\, 1N 6P6\, Canada
CATEGORIES:In-Person Events,Online Events
ATTACH;FMTTYPE=image/jpeg:https://amnestyottawagatineau.ca/wp-content/uploads/2023/02/Amnesty-International-Ottawa-Group.jpg
END:VEVENT
BEGIN:VEVENT
DTSTART;TZID=America/Toronto:20230913T190000
DTEND;TZID=America/Toronto:20230913T210000
DTSTAMP:20260424T151158
CREATED:20230816T183041Z
LAST-MODIFIED:20230816T183041Z
UID:726-1694631600-1694638800@amnestyottawagatineau.ca
SUMMARY:Monthly Community Activist Gathering
DESCRIPTION:Members from all local AI groups (AI 56\, AI Francophone\, AI UOttawa\, fieldworkers\, AI HQ staff) and members of the general public are invited to attend a monthly community gathering to plan and organize activism campaigns in the Ottawa-Gatineau region. \n  \nEventbrite link
URL:https://amnestyottawagatineau.ca/event/monthly-community-activist-gathering-10/
LOCATION:312 Laurier Ave E\, 312 Laurier Ave E\, Ottawa\, Ontario\, 1N 6P6\, Canada
CATEGORIES:In-Person Events,Online Events
ATTACH;FMTTYPE=image/jpeg:https://amnestyottawagatineau.ca/wp-content/uploads/2023/02/Amnesty-International-Ottawa-Group.jpg
END:VEVENT
BEGIN:VEVENT
DTSTART;TZID=America/Toronto:20230909T090000
DTEND;TZID=America/Toronto:20230909T150000
DTSTAMP:20260424T151158
CREATED:20230823T155158Z
LAST-MODIFIED:20230823T155345Z
UID:767-1694250000-1694271600@amnestyottawagatineau.ca
SUMMARY:Amnesty Booth at Old Ottawa South Yard Sale
DESCRIPTION:Join the garage sale fun and help us stop forced evictions due to cobalt mining in the DRC \n\n\nThe people of the Democratic Republic of the Congo (DRC) pay a high price to supply the world with copper and cobalt. They face forced evictions\, illegal destruction of their homes\, and physical violence. Send a message to President Tshisekedi to end forced evictions and other human rights abuses at copper and cobalt mines.
URL:https://amnestyottawagatineau.ca/event/amnesty-booth-at-old-ottawa-south-yard-sale/
LOCATION:60 Avenue Road\, 60 Avenue Rd\, Ottawa\, Ontario\, K1S 0N9\, Canada
CATEGORIES:In-Person Events,Online Events
ATTACH;FMTTYPE=image/jpeg:https://amnestyottawagatineau.ca/wp-content/uploads/2023/02/Amnesty-International-Ottawa-Photo-Gallery-21.jpg
END:VEVENT
BEGIN:VEVENT
DTSTART;TZID=America/New_York:20230712T190000
DTEND;TZID=America/New_York:20230712T210000
DTSTAMP:20260424T151158
CREATED:20230524T221751Z
LAST-MODIFIED:20230524T222612Z
UID:703-1689188400-1689195600@amnestyottawagatineau.ca
SUMMARY:Monthly Community Activist Gathering
DESCRIPTION:Members from all local AI groups (AI 56\, AI Francophone\, AI UOttawa\, fieldworkers\, AI HQ staff) and members of the general public are invited to attend a monthly community gathering to plan and organize activism campaigns in the Ottawa-Gatineau region. \nIf you would like to join virtually\, please email amnestyottawagatineau@gmail.com
URL:https://amnestyottawagatineau.ca/event/monthly-community-activist-gathering-9/
LOCATION:Ontario
CATEGORIES:In-Person Events,Online Events
ATTACH;FMTTYPE=image/jpeg:https://amnestyottawagatineau.ca/wp-content/uploads/2022/02/IMG_5971.jpg
END:VEVENT
BEGIN:VEVENT
DTSTART;TZID=America/New_York:20230712T190000
DTEND;TZID=America/New_York:20230712T210000
DTSTAMP:20260424T151158
CREATED:20230517T002037Z
LAST-MODIFIED:20230524T222554Z
UID:694-1689188400-1689195600@amnestyottawagatineau.ca
SUMMARY:Monthly Community Activist Gathering
DESCRIPTION:Members from all local AI groups (AI 56\, AI Francophone\, AI UOttawa\, fieldworkers\, AI HQ staff) and members of the general public are invited to attend a monthly community gathering to plan and organize activism campaigns in the Ottawa-Gatineau region.
URL:https://amnestyottawagatineau.ca/event/monthly-community-activist-gathering-8/
LOCATION:Amnesty’s Ottawa office\, 312 Laurier Ave E\, Ottawa\, ON\, K1N 1H9\, Canada
CATEGORIES:In-Person Events,Online Events
ATTACH;FMTTYPE=image/jpeg:https://amnestyottawagatineau.ca/wp-content/uploads/2023/02/Amnesty-International-Ottawa-Photo-Gallery-7.jpg
END:VEVENT
BEGIN:VEVENT
DTSTART;TZID=America/New_York:20230616T130000
DTEND;TZID=America/New_York:20230618T170000
DTSTAMP:20260424T151158
CREATED:20230513T175534Z
LAST-MODIFIED:20230524T222007Z
UID:676-1686920400-1687107600@amnestyottawagatineau.ca
SUMMARY:2023 Annual General Meeting & Human Rights College
DESCRIPTION:Ottawa is hosting the 2023 Annual General Meeting (AGM) from June 16-18th. The Annual General Meeting (AGM) is an opportunity for members and activists to come together in person to and inspire one another\, to learn about each other’s activism efforts and campaigns\, to share stories and experiences\, and to listen\, learn and participate in workshops\, our sessions and panel discussions. \nThe AGM is also Amnesty Canada’s highest decision-making body\, and a place where important governance work happens\, including electing our National Board and voting on resolutions that guide us in how we do our work. Throughout the weekend\, you will meet and interact with individuals and groups from coast to coast to coast who share your commitment to human rights while making important decisions to guide our work. We hope that when you leave the AGM\, you leave with new skills\, new connections\, inspiring stories\, and a refreshed sense of hope and determination. \nhttps://my.amnesty.ca/agm
URL:https://amnestyottawagatineau.ca/event/2023-annual-general-meeting-human-rights-college/
LOCATION:Carleton University\, 1125 Colonel By Drive\, Ottawa\, Ontario\, K1S 5B6\, Canada
CATEGORIES:In-Person Events,Online Events
ATTACH;FMTTYPE=image/jpeg:https://amnestyottawagatineau.ca/wp-content/uploads/2023/02/AI-AGM.jpg
END:VEVENT
BEGIN:VEVENT
DTSTART;TZID=America/New_York:20230614T190000
DTEND;TZID=America/New_York:20230614T210000
DTSTAMP:20260424T151158
CREATED:20230517T001955Z
LAST-MODIFIED:20230524T220855Z
UID:692-1686769200-1686776400@amnestyottawagatineau.ca
SUMMARY:Monthly Community Activist Gathering
DESCRIPTION:Members from all local AI groups (AI 56\, AI Francophone\, AI UOttawa\, fieldworkers\, AI HQ staff) and members of the general public are invited to attend a monthly community gathering to plan and organize activism campaigns in the Ottawa-Gatineau region. \nIf you would like to join virtually\, please email amnestyottawagatineau@gmail.com
URL:https://amnestyottawagatineau.ca/event/monthly-community-activist-gathering-7/
LOCATION:Amnesty’s Ottawa office\, 312 Laurier Ave E\, Ottawa\, ON\, K1N 1H9\, Canada
CATEGORIES:In-Person Events,Online Events
ATTACH;FMTTYPE=image/jpeg:https://amnestyottawagatineau.ca/wp-content/uploads/2022/01/12371184_10153742182500833_7116441211244684930_o.jpg
END:VEVENT
BEGIN:VEVENT
DTSTART;TZID=America/New_York:20230610T120000
DTEND;TZID=America/New_York:20230610T140000
DTSTAMP:20260424T151158
CREATED:20230517T000851Z
LAST-MODIFIED:20230524T220720Z
UID:683-1686398400-1686405600@amnestyottawagatineau.ca
SUMMARY:Board Candidates Question and Answer Session
DESCRIPTION:To ensure that all members feel confident in voting for their preferred candidates\, we are excited to formally invite you to our Board Candidates session where all members will have an opportunity to ask candidates questions before the Board election. This is your opportunity to ensure candidates understand your priorities and share your values! \n  \nhttps://us06web.zoom.us/webinar/register/WN_E8AdC5VNQIKXeTaB9ypEmA#/registration
URL:https://amnestyottawagatineau.ca/event/board-candidates-qa-session/
LOCATION:Ontario
CATEGORIES:In-Person Events,Online Events
ATTACH;FMTTYPE=image/jpeg:https://amnestyottawagatineau.ca/wp-content/uploads/2022/02/IMG_5973.jpg
END:VEVENT
BEGIN:VEVENT
DTSTART;VALUE=DATE:20220228
DTEND;VALUE=DATE:20220301
DTSTAMP:20260424T151158
CREATED:20220115T065344Z
LAST-MODIFIED:20220119T042135Z
UID:86-1646006400-1646092799@amnestyottawagatineau.ca
SUMMARY:Go Live!
DESCRIPTION:Go Live date for website!
URL:https://amnestyottawagatineau.ca/event/go-live/
LOCATION:Online\, Ontario\, Canada
CATEGORIES:Online Events
END:VEVENT
BEGIN:VEVENT
DTSTART;TZID=America/New_York:20220226T120000
DTEND;TZID=America/New_York:20220226T170000
DTSTAMP:20260424T151158
CREATED:20220115T210246Z
LAST-MODIFIED:20220119T042338Z
UID:111-1645876800-1645894800@amnestyottawagatineau.ca
SUMMARY:Immigration Detention Campaign Online Meeting
DESCRIPTION:Join members of the Amnesty International Canada community and learn about the Immigration Detention Campaign hosted by Human Rights Watch.  Human Rights Watch is one of our partner non-governmental organizations (NGOs).
URL:https://amnestyottawagatineau.ca/event/immigration-detention-campaign/
LOCATION:Online\, Ontario\, Canada
CATEGORIES:Online Events
END:VEVENT
END:VCALENDAR