BEGIN:VCALENDAR
VERSION:2.0
PRODID:-//Amnesty Ottawa-Gatineau - ECPv6.15.20//NONSGML v1.0//EN
CALSCALE:GREGORIAN
METHOD:PUBLISH
X-WR-CALNAME:Amnesty Ottawa-Gatineau
X-ORIGINAL-URL:https://amnestyottawagatineau.ca
X-WR-CALDESC:Events for Amnesty Ottawa-Gatineau
REFRESH-INTERVAL;VALUE=DURATION:PT1H
X-Robots-Tag:noindex
X-PUBLISHED-TTL:PT1H
BEGIN:VTIMEZONE
TZID:America/New_York
BEGIN:DAYLIGHT
TZOFFSETFROM:-0500
TZOFFSETTO:-0400
TZNAME:EDT
DTSTART:20210314T070000
END:DAYLIGHT
BEGIN:STANDARD
TZOFFSETFROM:-0400
TZOFFSETTO:-0500
TZNAME:EST
DTSTART:20211107T060000
END:STANDARD
BEGIN:DAYLIGHT
TZOFFSETFROM:-0500
TZOFFSETTO:-0400
TZNAME:EDT
DTSTART:20220313T070000
END:DAYLIGHT
BEGIN:STANDARD
TZOFFSETFROM:-0400
TZOFFSETTO:-0500
TZNAME:EST
DTSTART:20221106T060000
END:STANDARD
BEGIN:DAYLIGHT
TZOFFSETFROM:-0500
TZOFFSETTO:-0400
TZNAME:EDT
DTSTART:20230312T070000
END:DAYLIGHT
BEGIN:STANDARD
TZOFFSETFROM:-0400
TZOFFSETTO:-0500
TZNAME:EST
DTSTART:20231105T060000
END:STANDARD
END:VTIMEZONE
BEGIN:VEVENT
DTSTART;TZID=America/New_York:20221109T180000
DTEND;TZID=America/New_York:20221109T210000
DTSTAMP:20260424T174427
CREATED:20221013T032152Z
LAST-MODIFIED:20221013T032152Z
UID:473-1668016800-1668027600@amnestyottawagatineau.ca
SUMMARY:Monthly Community Activist Gathering
DESCRIPTION:Members from all local AI groups (AI 56\, AI Francophone\, AI UOttawa\, fieldworkers\, AI HQ staff) and members of the general public are invited to attend a monthly community gathering to plan and organize activism campaigns in the Ottawa-Gatineau region.
URL:https://amnestyottawagatineau.ca/event/monthly-community-activist-gathering/
LOCATION:Sussex House\, 22 Murray Street\, Ottawa\, ON\, Canada
END:VEVENT
BEGIN:VEVENT
DTSTART;TZID=America/New_York:20221017T120000
DTEND;TZID=America/New_York:20221017T140000
DTSTAMP:20260424T174427
CREATED:20221014T205935Z
LAST-MODIFIED:20221014T205935Z
UID:494-1666008000-1666015200@amnestyottawagatineau.ca
SUMMARY:UOttawa Annual General Meeting
DESCRIPTION:Amnesty International uOttawa invites you to the annual Lunch Launch where we will discuss topics including: \nWhat is Amnesty International\, what does the club do\, and how students can and do make a difference through human rights advocacy.
URL:https://amnestyottawagatineau.ca/event/uottawa-annual-general-meeting/
LOCATION:University of Ottawa\, CRX 230: 2nd floor or Learning Crossroads\, Ottawa\, Canada
END:VEVENT
BEGIN:VEVENT
DTSTART;TZID=America/New_York:20221002T163000
DTEND;TZID=America/New_York:20221002T183000
DTSTAMP:20260424T174427
CREATED:20220929T073529Z
LAST-MODIFIED:20220929T073529Z
UID:449-1664728200-1664735400@amnestyottawagatineau.ca
SUMMARY:Fossil Fuels\, Climate Change and Canada's Shameful Record
DESCRIPTION:We hear often how fossil fuels are one of the main causes of the climate crisis. Yet Canada continues to fund the expansion of fossil fuels\, condemning millions of people to the life-threatening impacts of worsening climate change. Oil and gas companies are making huge profits and continue production unabated. Canada’s export bank\, Export Development Canada\, is one of the biggest public financial backers of fossil fuels in the world. Why is this so? \nJoin us this coming Sunday\, October 2\, from 4:30 – 6pm\, as Amnesty’s Climate Justice and Corporate Accountability Specialized Team hosts a free online workshop to throw a light on this situation. \nHear from two passionate climate action advocates: \n\nDominic Twomey\, Business and Human Rights campaigner at Amnesty International’s International Secretariat. Dominic works on Climate\, Economic and Social Justice\, and Corporate Accountability.\nFiona Koza\, Climate Accountability Strategist at West Coast Environmental Law\, based in Vancouver. Fiona is a former climate justice campaigner at Amnesty Canada.\n\nLearn more! Find out how you can take action and get involved! \nRegister here for this free workshop! \nTake action now! Urge Canada to Protect Our Rights and Stop Bankrolling Fossil Fuels \nFor more information\, please contact AI Canada’s Business and Human Rights Coordinator Ian Heide ianheide@yahoo.com.
URL:https://amnestyottawagatineau.ca/event/fossil-fuels-climate-change-and-canadas-shameful-record/
END:VEVENT
BEGIN:VEVENT
DTSTART;TZID=America/New_York:20220924T140000
DTEND;TZID=America/New_York:20220924T180000
DTSTAMP:20260424T174427
CREATED:20220829T135744Z
LAST-MODIFIED:20220829T135744Z
UID:446-1664028000-1664042400@amnestyottawagatineau.ca
SUMMARY:Berta Multiplied
DESCRIPTION:Join a hands-on community action event to make visible our support for defenders of Indigenous lands\, water\, forests\, air and a healthy environment. In times of climate crisis\, these defenders are a beacon of hope. Yet they are under increasing vicious attack because their efforts challenge the profits of powerful companies and their backers. \nCome hear the inspiring words of defenders from across our hemisphere and help us unveil a new tree that honours a call made to us by our partners at the Civic Council of Popular and Indigenous Organizations in Honduras (COPINH)\, the organization founded by murdered Lenca Indigenous rights and river defender Berta Cáceres. \nTogether with community artist Claudia Salguero\, we will paint stones to create a vibrant\, eye-catching Living River of Solidarity that flows out from the tree to engage passersby. \nThere will also be music\, refreshments and lots of opportunities to make your voice count by signing petitions in support of threatened defenders in Canada\, Colombia\, Brazil\, Mexico\, Ecuador and Guatemala. \nWhen: Saturday September 24 between 2 and 6 pm – drop by any time and join the action! \nWhere: Outside Amnesty’s Ottawa office\, 312 Laurier Ave E\, Ottawa\, ON K1N 1H9 \nThis event is free! This event is child friendly! This event needs many hands! So bring your friends and together we’ll create a collective public art installation for Indigenous rights and a healthy environment.
URL:https://amnestyottawagatineau.ca/event/berta-multiplied/
LOCATION:Amnesty’s Ottawa office\, 312 Laurier Ave E\, Ottawa\, ON\, K1N 1H9\, Canada
CATEGORIES:In-Person Events
END:VEVENT
BEGIN:VEVENT
DTSTART;TZID=America/New_York:20220627T193000
DTEND;TZID=America/New_York:20220627T194000
DTSTAMP:20260424T174427
CREATED:20220624T135939Z
LAST-MODIFIED:20220624T135939Z
UID:439-1656358200-1656358800@amnestyottawagatineau.ca
SUMMARY:Photo taking at Ottawa Little Theatre
DESCRIPTION:To protest the bombing of the Mariupol Theatre in Ukraine\, we will join activists around the world who are taking photographs in front of theatres in their own communities.
URL:https://amnestyottawagatineau.ca/event/photo-taking-at-ottawa-little-theatre/
LOCATION:Ottawa Little Theatre\, 400 King Edward Ave.\, Ottawa\, Ontario\, Canada
END:VEVENT
BEGIN:VEVENT
DTSTART;TZID=America/New_York:20220618T110000
DTEND;TZID=America/New_York:20220618T113000
DTSTAMP:20260424T174427
CREATED:20220611T135057Z
LAST-MODIFIED:20220611T135057Z
UID:436-1655550000-1655551800@amnestyottawagatineau.ca
SUMMARY:Protest Immigration Detention at the Ottawa Carleton Detention Centre
DESCRIPTION:
URL:https://amnestyottawagatineau.ca/event/protest-immigration-detention-at-the-ottawa-carleton-detention-centre/
END:VEVENT
BEGIN:VEVENT
DTSTART;TZID=America/New_York:20220603T170000
DTEND;TZID=America/New_York:20220605T170000
DTSTAMP:20260424T174427
CREATED:20220502T205608Z
LAST-MODIFIED:20220502T205608Z
UID:417-1654275600-1654448400@amnestyottawagatineau.ca
SUMMARY:National AGM
DESCRIPTION:June 3rd\, 2022\, Opening Event \nJune 4th\, 2022\, Plenary Session: Part 1 \nJune 5\, 2022\, Plenary Session: Part 2 \nFor more information please visit: Home (amnesty.ca)
URL:https://amnestyottawagatineau.ca/event/national-agm/
LOCATION:Online\, Ontario\, Canada
END:VEVENT
BEGIN:VEVENT
DTSTART;TZID=America/New_York:20220507T103000
DTEND;TZID=America/New_York:20220507T123000
DTSTAMP:20260424T174427
CREATED:20220501T143458Z
LAST-MODIFIED:20220506T190654Z
UID:402-1651919400-1651926600@amnestyottawagatineau.ca
SUMMARY:Solidarity Action Protest
DESCRIPTION:Solidarity Action to protest the human rights and humanitarian law violations by the Russian state.\n\nPlease register to attend here and check here for sign ideas.
URL:https://amnestyottawagatineau.ca/event/solidarity-action-protest/
LOCATION:Russian Embassy\, 285 Charlotte Street\, Ottawa\, Ontario\, Canada
END:VEVENT
BEGIN:VEVENT
DTSTART;TZID=America/New_York:20220504T190000
DTEND;TZID=America/New_York:20220504T190000
DTSTAMP:20260424T174427
CREATED:20220501T142600Z
LAST-MODIFIED:20220501T142600Z
UID:398-1651690800-1651690800@amnestyottawagatineau.ca
SUMMARY:Amnesty Group 56 Meeting
DESCRIPTION:Amnesty International Group 56 members will be discussing the following points: \n\nIntroductions\nEnvironmental Human Rights Defenders (EHRDs)\, including Colombia\nImmigration Detention — Letter-writing action and potential event at Ottawa Detention Centre\nHuseyin Celil – Update recent activity on this case\nOttawa-Gatineau Communications Hub\nNext steps for our local AI Group 56\nOther items?
URL:https://amnestyottawagatineau.ca/event/amnesty-group-56-meeting/
END:VEVENT
BEGIN:VEVENT
DTSTART;VALUE=DATE:20220228
DTEND;VALUE=DATE:20220301
DTSTAMP:20260424T174427
CREATED:20220115T065344Z
LAST-MODIFIED:20220119T042135Z
UID:86-1646006400-1646092799@amnestyottawagatineau.ca
SUMMARY:Go Live!
DESCRIPTION:Go Live date for website!
URL:https://amnestyottawagatineau.ca/event/go-live/
LOCATION:Online\, Ontario\, Canada
CATEGORIES:Online Events
END:VEVENT
BEGIN:VEVENT
DTSTART;TZID=America/New_York:20220226T120000
DTEND;TZID=America/New_York:20220226T170000
DTSTAMP:20260424T174427
CREATED:20220115T210246Z
LAST-MODIFIED:20220119T042338Z
UID:111-1645876800-1645894800@amnestyottawagatineau.ca
SUMMARY:Immigration Detention Campaign Online Meeting
DESCRIPTION:Join members of the Amnesty International Canada community and learn about the Immigration Detention Campaign hosted by Human Rights Watch.  Human Rights Watch is one of our partner non-governmental organizations (NGOs).
URL:https://amnestyottawagatineau.ca/event/immigration-detention-campaign/
LOCATION:Online\, Ontario\, Canada
CATEGORIES:Online Events
END:VEVENT
END:VCALENDAR